BEGIN:VCALENDAR
VERSION:2.0
PRODID:-//eventon.com NONSGML v1.0//EN
CALSCALE:GREGORIAN
METHOD:PUBLISH
BEGIN:VEVENT
UID:69ec2aa50cd57
DTSTAMP:20260425T024453Z
DTSTART:20250601
DTEND:20250602
LOCATION:
SUMMARY:Home Care 100
DESCRIPTION:Join Curantis Solutions at Home Care 100\,  June 1-4\,  2025 at
  Waldorf Astoria Monarch Beach\,  CA. Learn more here.\nhttp://curantissolu
 tions.com/events/home-care-100/
URL:http://curantissolutions.com/events/home-care-100/
END:VEVENT
END:VCALENDAR