BEGIN:VCALENDAR
VERSION:2.0
PRODID:-//eventon.com NONSGML v1.0//EN
CALSCALE:GREGORIAN
METHOD:PUBLISH
BEGIN:VEVENT
UID:69ec198975ec7
DTSTAMP:20260425T013153Z
DTSTART:20251102
DTEND:20251103
LOCATION:
SUMMARY:National Alliance Care at Home Annual Meeting
DESCRIPTION:Join Curantis Solutions at the 2025 National Alliance for Care 
 at Home Annual Meeting &amp; Exposition\,  November 2-4\,  2025 in New Orle
 ans\,  LA.\nhttp://curantissolutions.com/events/national-alliance-care-at-h
 ome-annual-meeting/
URL:http://curantissolutions.com/events/national-alliance-care-at-home-annual-meeting/
END:VEVENT
END:VCALENDAR