BEGIN:VCALENDAR
VERSION:2.0
PRODID:-//eventon.com NONSGML v1.0//EN
CALSCALE:GREGORIAN
METHOD:PUBLISH
BEGIN:VEVENT
UID:69ebf39039a2b
DTSTAMP:20260424T224952Z
DTSTART:20250427
DTEND:20250428
LOCATION:
SUMMARY:North Carolina AHHC 53rd Annual Convention and Expo
DESCRIPTION:Join Curantis Solutions at the AHHC 53rd Annual Convention &amp
 ; Expo in North Carolina\,  April 27-29\,  2025.\nhttp://curantissolutions.
 com/events/north-carolina-ahhc-53rd-annual-convention-and-expo/
URL:http://curantissolutions.com/events/north-carolina-ahhc-53rd-annual-convention-and-expo/
END:VEVENT
END:VCALENDAR