BEGIN:VCALENDAR
VERSION:2.0
PRODID:-//eventon.com NONSGML v1.0//EN
CALSCALE:GREGORIAN
METHOD:PUBLISH
BEGIN:VEVENT
UID:69ebe1a906e1f
DTSTAMP:20260424T213329Z
DTSTART:20250424
DTEND:20250425
LOCATION:
SUMMARY:Rio Grande Hospice and Palliative Care Conference
DESCRIPTION:Join Curantis Solutions at the Rio Grande Hospice &amp; Palliat
 ive Care Conference\,  April 24\,  2025.\nhttp://curantissolutions.com/even
 ts/rio-grande-hospice-and-palliative-care-conference/
URL:http://curantissolutions.com/events/rio-grande-hospice-and-palliative-care-conference/
END:VEVENT
END:VCALENDAR